BEGIN:VCALENDAR
VERSION:2.0
PRODID:-//Edward B. Mueller Co., Inc. - ECPv6.15.20//NONSGML v1.0//EN
CALSCALE:GREGORIAN
METHOD:PUBLISH
X-WR-CALNAME:Edward B. Mueller Co., Inc.
X-ORIGINAL-URL:https://muellerco.com
X-WR-CALDESC:Events for Edward B. Mueller Co., Inc.
REFRESH-INTERVAL;VALUE=DURATION:PT1H
X-Robots-Tag:noindex
X-PUBLISHED-TTL:PT1H
BEGIN:VTIMEZONE
TZID:America/New_York
BEGIN:DAYLIGHT
TZOFFSETFROM:-0500
TZOFFSETTO:-0400
TZNAME:EDT
DTSTART:20230312T070000
END:DAYLIGHT
BEGIN:STANDARD
TZOFFSETFROM:-0400
TZOFFSETTO:-0500
TZNAME:EST
DTSTART:20231105T060000
END:STANDARD
BEGIN:DAYLIGHT
TZOFFSETFROM:-0500
TZOFFSETTO:-0400
TZNAME:EDT
DTSTART:20240310T070000
END:DAYLIGHT
BEGIN:STANDARD
TZOFFSETFROM:-0400
TZOFFSETTO:-0500
TZNAME:EST
DTSTART:20241103T060000
END:STANDARD
BEGIN:DAYLIGHT
TZOFFSETFROM:-0500
TZOFFSETTO:-0400
TZNAME:EDT
DTSTART:20250309T070000
END:DAYLIGHT
BEGIN:STANDARD
TZOFFSETFROM:-0400
TZOFFSETTO:-0500
TZNAME:EST
DTSTART:20251102T060000
END:STANDARD
END:VTIMEZONE
BEGIN:VEVENT
DTSTART;TZID=America/New_York:20240302T100000
DTEND;TZID=America/New_York:20240302T120000
DTSTAMP:20260421T124646
CREATED:20240216T162319Z
LAST-MODIFIED:20240216T162319Z
UID:17811-1709373600-1709380800@muellerco.com
SUMMARY:Woodpecker Route-N-Plane Bench Top Board Mill Demo
DESCRIPTION:Join us Saturday March 2nd for a demo of the new Woodpeckers Route-N-Plane Board Mill. We will discuss slab flattening jigs and various types of bits for this process. The Route-N-Plane is great for smaller projects like cutting boards and gives you the ability to flatten boards that may be too large for your planer.
URL:https://muellerco.com/event/woodpecker-route-n-plane-bench-top-board-mill-demo/
LOCATION:OH
CATEGORIES:Saturday Demos
ATTACH;FMTTYPE=image/jpeg:https://muellerco.com/wp-content/uploads/2024/02/rout-n-plane_23_01-a_1.jpg
END:VEVENT
BEGIN:VEVENT
DTSTART;TZID=America/New_York:20240309T093000
DTEND;TZID=America/New_York:20240309T123000
DTSTAMP:20260421T124646
CREATED:20230921T182552Z
LAST-MODIFIED:20240221T193822Z
UID:16905-1709976600-1709987400@muellerco.com
SUMMARY:No Demo – Cincinnati Woodworking Club Meeting
DESCRIPTION:The Cincinnati Woodworking Club is now holding there meetings here at Mueller Machinery. For more information about the club and how to join check out their website (https://www.cincinnatiwoodworkingclub.org/). You can also join the day of the meeting at the store. Stop in and check out a meeting its a good time with a wealth of great information and knowledge.
URL:https://muellerco.com/event/no-demo-cincinnati-woodworking-club-meeting-3/
LOCATION:OH
ATTACH;FMTTYPE=image/jpeg:https://muellerco.com/wp-content/uploads/2023/09/CWWC-1.jpg
END:VEVENT
BEGIN:VEVENT
DTSTART;TZID=America/New_York:20240330T090000
DTEND;TZID=America/New_York:20240330T130000
DTSTAMP:20260421T124646
CREATED:20230217T161154Z
LAST-MODIFIED:20240321T130059Z
UID:14669-1711789200-1711803600@muellerco.com
SUMMARY:Festool Demo Day with Brent Shively
DESCRIPTION:We are excited to announce a special Festool demo day with Festool trainer Brent Shively on Saturday\, March 30th. Brent will be joining us to showcase a cabinet build demonstration using the innovative Festool system. This is a fantastic opportunity to witness firsthand the precision and efficiency of Festool tools and learn valuable tips and techniques from Brent. Mark your calendars and don’t miss out on this exciting event!
URL:https://muellerco.com/event/festool-demo-day-with-brent-shively-build-a-wall-cabinet-using-the-festool-system/
LOCATION:Mueller Machinery\, 101 East Benson Street\, Cincinnati\, OH\, 45215\, United States
CATEGORIES:Saturday Demos
ATTACH;FMTTYPE=image/jpeg:https://muellerco.com/wp-content/uploads/2023/02/maxresdefault.jpg
END:VEVENT
END:VCALENDAR