BEGIN:VCALENDAR
VERSION:2.0
PRODID:-//Edward B. Mueller Co., Inc. - ECPv6.15.20//NONSGML v1.0//EN
CALSCALE:GREGORIAN
METHOD:PUBLISH
X-ORIGINAL-URL:https://muellerco.com
X-WR-CALDESC:Events for Edward B. Mueller Co., Inc.
REFRESH-INTERVAL;VALUE=DURATION:PT1H
X-Robots-Tag:noindex
X-PUBLISHED-TTL:PT1H
BEGIN:VTIMEZONE
TZID:America/New_York
BEGIN:DAYLIGHT
TZOFFSETFROM:-0500
TZOFFSETTO:-0400
TZNAME:EDT
DTSTART:20230312T070000
END:DAYLIGHT
BEGIN:STANDARD
TZOFFSETFROM:-0400
TZOFFSETTO:-0500
TZNAME:EST
DTSTART:20231105T060000
END:STANDARD
BEGIN:DAYLIGHT
TZOFFSETFROM:-0500
TZOFFSETTO:-0400
TZNAME:EDT
DTSTART:20240310T070000
END:DAYLIGHT
BEGIN:STANDARD
TZOFFSETFROM:-0400
TZOFFSETTO:-0500
TZNAME:EST
DTSTART:20241103T060000
END:STANDARD
BEGIN:DAYLIGHT
TZOFFSETFROM:-0500
TZOFFSETTO:-0400
TZNAME:EDT
DTSTART:20250309T070000
END:DAYLIGHT
BEGIN:STANDARD
TZOFFSETFROM:-0400
TZOFFSETTO:-0500
TZNAME:EST
DTSTART:20251102T060000
END:STANDARD
END:VTIMEZONE
BEGIN:VEVENT
DTSTART;TZID=America/New_York:20240106T100000
DTEND;TZID=America/New_York:20240106T120000
DTSTAMP:20260421T160517
CREATED:20231219T192005Z
LAST-MODIFIED:20231219T192005Z
UID:17343-1704535200-1704542400@muellerco.com
SUMMARY:Micro Jig Demo Day
DESCRIPTION:Join us Saturday Jan 6th for a Micro Jig demo day. This demo will cover many of the useful Micro Jig products including the Fitfinder 1/2 Guage\, the Grr-ripper push blocks\, the Match Fit router bits and clamps and also the Zero Play miter bars. We will show how to build 2 very useful jigs for any shop. We will show how to build a shop utility sled that can be used on many tools in the shop as well as a 3-in-1 tall fence/jointing sled/tapering jig. The store opens at 9:00 and the demo is from 10:00 to 12:00. Stop in for complimentary coffee and donuts and stay for this fun and informative demo.
URL:https://muellerco.com/event/micro-jig-demo-day/
LOCATION:Mueller Machinery\, 101 East Benson Street\, Cincinnati\, OH\, 45215\, United States
CATEGORIES:Saturday Demos
ATTACH;FMTTYPE=image/png:https://muellerco.com/wp-content/uploads/2023/12/Micro-Jig-Demo.png
END:VEVENT
BEGIN:VEVENT
DTSTART;TZID=America/New_York:20240113T090000
DTEND;TZID=America/New_York:20240113T123000
DTSTAMP:20260421T160517
CREATED:20230921T182500Z
LAST-MODIFIED:20230921T182500Z
UID:16903-1705136400-1705149000@muellerco.com
SUMMARY:No Demo – Cincinnati Woodworking Club Meeting
DESCRIPTION:The Cincinnati Woodworking Club is now holding there meetings here at Mueller Machinery. For more information about the club and how to join check out their website (https://www.cincinnatiwoodworkingclub.org/). You can also join the day of the meeting at the store. Stop in and check out a meeting its a good time with a wealth of great information and knowledge.
URL:https://muellerco.com/event/no-demo-cincinnati-woodworking-club-meeting-2/
LOCATION:OH
END:VEVENT
BEGIN:VEVENT
DTSTART;TZID=America/New_York:20240120T100000
DTEND;TZID=America/New_York:20240120T120000
DTSTAMP:20260421T160517
CREATED:20231219T193904Z
LAST-MODIFIED:20231220T195352Z
UID:17347-1705744800-1705752000@muellerco.com
SUMMARY:Shop Made Jigs and Fixtures With Doug Dale
DESCRIPTION:Doug Dale will be here to show and discuss some of the most useful shop made jigs and fixtures. We will also discuss the best choice of materials and how to build jigs for accuracy and repeatability. Jigs and fixtures can be discussed to solve your own woodworking problems. How to solve problems with accuracy and safety your most critical criteria! \nTime will be spent discussing the following jigs: \n\nCircle and sanding jig\nElliptical cutting jig for your router\nTaper cutting jig\nPattern cutting jig\nTenon cutting jig\nSmall parts cutting jig\nPlus others at time allows\n\nDoug Dale works at the Marc Adams School of Woodworking and is in charge of all of the in-house machine maintenance at the school. Doug has lectured nationally for the Consumer Woodworking Expo. He has starred in five videos with Popular Woodworking also. \n  \n  \n 
URL:https://muellerco.com/event/shop-made-jigs-and-fixtures-with-doug-dale/
LOCATION:Mueller Machinery\, 101 East Benson Street\, Cincinnati\, OH\, 45215\, United States
CATEGORIES:Saturday Demos
ATTACH;FMTTYPE=image/png:https://muellerco.com/wp-content/uploads/2023/12/Jigs-Doug-Dale.png
END:VEVENT
END:VCALENDAR