BEGIN:VCALENDAR
VERSION:2.0
PRODID:-//Edward B. Mueller Co., Inc. - ECPv6.15.20//NONSGML v1.0//EN
CALSCALE:GREGORIAN
METHOD:PUBLISH
X-ORIGINAL-URL:https://muellerco.com
X-WR-CALDESC:Events for Edward B. Mueller Co., Inc.
REFRESH-INTERVAL;VALUE=DURATION:PT1H
X-Robots-Tag:noindex
X-PUBLISHED-TTL:PT1H
BEGIN:VTIMEZONE
TZID:America/New_York
BEGIN:DAYLIGHT
TZOFFSETFROM:-0500
TZOFFSETTO:-0400
TZNAME:EDT
DTSTART:20220313T070000
END:DAYLIGHT
BEGIN:STANDARD
TZOFFSETFROM:-0400
TZOFFSETTO:-0500
TZNAME:EST
DTSTART:20221106T060000
END:STANDARD
BEGIN:DAYLIGHT
TZOFFSETFROM:-0500
TZOFFSETTO:-0400
TZNAME:EDT
DTSTART:20230312T070000
END:DAYLIGHT
BEGIN:STANDARD
TZOFFSETFROM:-0400
TZOFFSETTO:-0500
TZNAME:EST
DTSTART:20231105T060000
END:STANDARD
BEGIN:DAYLIGHT
TZOFFSETFROM:-0500
TZOFFSETTO:-0400
TZNAME:EDT
DTSTART:20240310T070000
END:DAYLIGHT
BEGIN:STANDARD
TZOFFSETFROM:-0400
TZOFFSETTO:-0500
TZNAME:EST
DTSTART:20241103T060000
END:STANDARD
END:VTIMEZONE
BEGIN:VEVENT
DTSTART;TZID=America/New_York:20231201T090000
DTEND;TZID=America/New_York:20231201T160000
DTSTAMP:20260421T175105
CREATED:20230921T170723Z
LAST-MODIFIED:20231102T153654Z
UID:16880-1701421200-1701446400@muellerco.com
SUMMARY:Mueller Machinery 2023 Holiday Show Day 1
DESCRIPTION:Join us for our biggest sale of the year and the first woodworking show that we have had since before the pandemic. Sales reps will be on hand from many of our most popular brands. \n\nWoodturning demonstrations on Powermatic\, Jet & Laguna lathes\nFestool trainer\, Brian “Sedge” Sedgeley\, will be here demonstrating and showing the new Festool line-up of tools on Saturday!\nAxiom CNC Demos\nShaper Origin handheld CNC demos\nTest drive new Festool tools\nSee the SawStop flesh detecting technology demo’d each day\nNew products from many vendors\nRefreshments & lunch served both days\nSign up for door prizes
URL:https://muellerco.com/event/mueller-machinery-2023-holiday-show-day-1/
LOCATION:Mueller Machinery\, 101 East Benson Street\, Cincinnati\, OH\, 45215\, United States
CATEGORIES:Showroom Sales
ATTACH;FMTTYPE=image/png:https://muellerco.com/wp-content/uploads/2023/11/2023-Show.png
END:VEVENT
BEGIN:VEVENT
DTSTART;TZID=America/New_York:20231202T090000
DTEND;TZID=America/New_York:20231202T140000
DTSTAMP:20260421T175105
CREATED:20230921T170717Z
LAST-MODIFIED:20231102T153052Z
UID:16882-1701507600-1701525600@muellerco.com
SUMMARY:Mueller Machinery 2023 Holiday Show Day 2
DESCRIPTION:Join us for our biggest sale of the year and the first woodworking show that we have had since before the pandemic. Sales reps will be on hand from many of our most popular brands. \n\nWoodturning demonstrations on Powermatic\, Jet & Laguna lathes\nFestool trainer\, Brian “Sedge” Sedgeley\, will be here demonstrating and showing the new Festool line-up of tools on Saturday!\nAxiom CNC Demos\nShaper Origin handheld CNC demos\nTest drive new Festool tools\nSee the SawStop flesh detecting technology demo’d each day\nNew products from many vendors\nRefreshments & lunch served both days\nSign up for door prizes
URL:https://muellerco.com/event/mueller-2023-holiday-show-day-2/
LOCATION:Mueller Machinery\, 101 East Benson Street\, Cincinnati\, OH\, 45215\, United States
CATEGORIES:Showroom Sales
ATTACH;FMTTYPE=image/png:https://muellerco.com/wp-content/uploads/2023/11/2023-Show.png
END:VEVENT
BEGIN:VEVENT
DTSTART;TZID=America/New_York:20231209T100000
DTEND;TZID=America/New_York:20231209T120000
DTSTAMP:20260421T175105
CREATED:20211119T151551Z
LAST-MODIFIED:20231102T194047Z
UID:9912-1702116000-1702123200@muellerco.com
SUMMARY:Making Puzzle Boxes With Jeff Vollmer
DESCRIPTION:Jeff Vollmer a Cincinnati native and author of “Puzzle Boxes Fun and Intriguing Band Saw Projects” will be here to demonstrate how to use your bandsaw with an 1/8” blade to make puzzle boxes. Jeff also teaches classes at the Marc Adams School of Woodworking and has written articles for Popular Woodworking magazine.
URL:https://muellerco.com/event/making-puzzle-boxes-with-jeff-vollmer/
LOCATION:OH
CATEGORIES:Saturday Demos
ATTACH;FMTTYPE=image/jpeg:https://muellerco.com/wp-content/uploads/2021/11/Puzzle-Box.jpg
END:VEVENT
END:VCALENDAR