BEGIN:VCALENDAR
VERSION:2.0
PRODID:-//Edward B. Mueller Co., Inc. - ECPv6.15.20//NONSGML v1.0//EN
CALSCALE:GREGORIAN
METHOD:PUBLISH
X-WR-CALNAME:Edward B. Mueller Co., Inc.
X-ORIGINAL-URL:https://muellerco.com
X-WR-CALDESC:Events for Edward B. Mueller Co., Inc.
REFRESH-INTERVAL;VALUE=DURATION:PT1H
X-Robots-Tag:noindex
X-PUBLISHED-TTL:PT1H
BEGIN:VTIMEZONE
TZID:America/New_York
BEGIN:DAYLIGHT
TZOFFSETFROM:-0500
TZOFFSETTO:-0400
TZNAME:EDT
DTSTART:20220313T070000
END:DAYLIGHT
BEGIN:STANDARD
TZOFFSETFROM:-0400
TZOFFSETTO:-0500
TZNAME:EST
DTSTART:20221106T060000
END:STANDARD
BEGIN:DAYLIGHT
TZOFFSETFROM:-0500
TZOFFSETTO:-0400
TZNAME:EDT
DTSTART:20230312T070000
END:DAYLIGHT
BEGIN:STANDARD
TZOFFSETFROM:-0400
TZOFFSETTO:-0500
TZNAME:EST
DTSTART:20231105T060000
END:STANDARD
BEGIN:DAYLIGHT
TZOFFSETFROM:-0500
TZOFFSETTO:-0400
TZNAME:EDT
DTSTART:20240310T070000
END:DAYLIGHT
BEGIN:STANDARD
TZOFFSETFROM:-0400
TZOFFSETTO:-0500
TZNAME:EST
DTSTART:20241103T060000
END:STANDARD
END:VTIMEZONE
BEGIN:VEVENT
DTSTART;TZID=America/New_York:20230204T100000
DTEND;TZID=America/New_York:20230204T120000
DTSTAMP:20260422T105419
CREATED:20230128T154047Z
LAST-MODIFIED:20230128T154047Z
UID:14639-1675504800-1675512000@muellerco.com
SUMMARY:How to Make a Table Saw Spline Jig
DESCRIPTION:This demo will show how to build and use a spline jig for use on your table saw fence. A spline jig is made for strengthening mitered corners on picture frames and small boxes. Just using glue on a miter joint may result in breaks along the seam as your wood expands and contracts. The spline is glued into the joint across the two adjacent boards to hold the corner together tightly. The spline jig can be custom sized to fit over any table saw fence. Stop in for this demo which is from 10:00 until 12:00.
URL:https://muellerco.com/event/how-to-make-a-table-saw-spline-jig/
LOCATION:OH
CATEGORIES:Saturday Demos
ATTACH;FMTTYPE=image/jpeg:https://muellerco.com/wp-content/uploads/2023/01/spline-jig.jpg
END:VEVENT
BEGIN:VEVENT
DTSTART;TZID=America/New_York:20230211T093000
DTEND;TZID=America/New_York:20230211T120000
DTSTAMP:20260422T105419
CREATED:20230106T182107Z
LAST-MODIFIED:20230106T182107Z
UID:14596-1676107800-1676116800@muellerco.com
SUMMARY:Router Table Basics with Doug Dale
DESCRIPTION:Guest woodworker Doug Dale is back for this new demo on router table basics. Doug will cover the basics of the router table and the many different functions that can be done with this versatile tool. Doug has done many demos for us and is a wealth of woodworking knowledge. There is a lot that can be done with a router table and Doug will cover a lot of information in this demo. Doug can answer your questions if there is anything that you would like to ask or see.
URL:https://muellerco.com/event/router-table-basics-with-doug-dale/
LOCATION:OH
CATEGORIES:Saturday Demos
ATTACH;FMTTYPE=image/png:https://muellerco.com/wp-content/uploads/2023/01/Router-Table-Basics.png
END:VEVENT
BEGIN:VEVENT
DTSTART;TZID=America/New_York:20230218T100000
DTEND;TZID=America/New_York:20230218T120000
DTSTAMP:20260422T105419
CREATED:20230203T142435Z
LAST-MODIFIED:20230203T142435Z
UID:14663-1676714400-1676721600@muellerco.com
SUMMARY:Build Demo - Collapsible Outdoor Patio Chair
DESCRIPTION:This demo will show the build of a collapsible out door patio chair. We will cover the steps for building this sturdy comfortable chair that can be a great addition to your outdoor living space. This chair is made up of two interlocking pieces that can be taken apart for easy storage or transport. You will want to mark your calendar and be sure to stop in for this build demo with Suzanne. You will receive a FREE set of plans so you can build this project in your shop after the demo.
URL:https://muellerco.com/event/build-demo-collapsible-outdoor-patio-chair/
LOCATION:OH
CATEGORIES:Saturday Demos
ATTACH;FMTTYPE=image/png:https://muellerco.com/wp-content/uploads/2023/02/Nesting-Chair.png
END:VEVENT
END:VCALENDAR