BEGIN:VCALENDAR
VERSION:2.0
PRODID:-//Edward B. Mueller Co., Inc. - ECPv6.15.20//NONSGML v1.0//EN
CALSCALE:GREGORIAN
METHOD:PUBLISH
X-ORIGINAL-URL:https://muellerco.com
X-WR-CALDESC:Events for Edward B. Mueller Co., Inc.
REFRESH-INTERVAL;VALUE=DURATION:PT1H
X-Robots-Tag:noindex
X-PUBLISHED-TTL:PT1H
BEGIN:VTIMEZONE
TZID:America/New_York
BEGIN:DAYLIGHT
TZOFFSETFROM:-0500
TZOFFSETTO:-0400
TZNAME:EDT
DTSTART:20230312T070000
END:DAYLIGHT
BEGIN:STANDARD
TZOFFSETFROM:-0400
TZOFFSETTO:-0500
TZNAME:EST
DTSTART:20231105T060000
END:STANDARD
BEGIN:DAYLIGHT
TZOFFSETFROM:-0500
TZOFFSETTO:-0400
TZNAME:EDT
DTSTART:20240310T070000
END:DAYLIGHT
BEGIN:STANDARD
TZOFFSETFROM:-0400
TZOFFSETTO:-0500
TZNAME:EST
DTSTART:20241103T060000
END:STANDARD
BEGIN:DAYLIGHT
TZOFFSETFROM:-0500
TZOFFSETTO:-0400
TZNAME:EDT
DTSTART:20250309T070000
END:DAYLIGHT
BEGIN:STANDARD
TZOFFSETFROM:-0400
TZOFFSETTO:-0500
TZNAME:EST
DTSTART:20251102T060000
END:STANDARD
END:VTIMEZONE
BEGIN:VEVENT
DTSTART;TZID=America/New_York:20240113T090000
DTEND;TZID=America/New_York:20240113T123000
DTSTAMP:20260421T175106
CREATED:20230921T182500Z
LAST-MODIFIED:20230921T182500Z
UID:16903-1705136400-1705149000@muellerco.com
SUMMARY:No Demo – Cincinnati Woodworking Club Meeting
DESCRIPTION:The Cincinnati Woodworking Club is now holding there meetings here at Mueller Machinery. For more information about the club and how to join check out their website (https://www.cincinnatiwoodworkingclub.org/). You can also join the day of the meeting at the store. Stop in and check out a meeting its a good time with a wealth of great information and knowledge.
URL:https://muellerco.com/event/no-demo-cincinnati-woodworking-club-meeting-2/
LOCATION:OH
END:VEVENT
END:VCALENDAR