BEGIN:VCALENDAR
VERSION:2.0
PRODID:-//Edward B. Mueller Co., Inc. - ECPv6.15.20//NONSGML v1.0//EN
CALSCALE:GREGORIAN
METHOD:PUBLISH
X-ORIGINAL-URL:https://muellerco.com
X-WR-CALDESC:Events for Edward B. Mueller Co., Inc.
REFRESH-INTERVAL;VALUE=DURATION:PT1H
X-Robots-Tag:noindex
X-PUBLISHED-TTL:PT1H
BEGIN:VTIMEZONE
TZID:America/New_York
BEGIN:DAYLIGHT
TZOFFSETFROM:-0500
TZOFFSETTO:-0400
TZNAME:EDT
DTSTART:20210314T070000
END:DAYLIGHT
BEGIN:STANDARD
TZOFFSETFROM:-0400
TZOFFSETTO:-0500
TZNAME:EST
DTSTART:20211107T060000
END:STANDARD
BEGIN:DAYLIGHT
TZOFFSETFROM:-0500
TZOFFSETTO:-0400
TZNAME:EDT
DTSTART:20220313T070000
END:DAYLIGHT
BEGIN:STANDARD
TZOFFSETFROM:-0400
TZOFFSETTO:-0500
TZNAME:EST
DTSTART:20221106T060000
END:STANDARD
BEGIN:DAYLIGHT
TZOFFSETFROM:-0500
TZOFFSETTO:-0400
TZNAME:EDT
DTSTART:20230312T070000
END:DAYLIGHT
BEGIN:STANDARD
TZOFFSETFROM:-0400
TZOFFSETTO:-0500
TZNAME:EST
DTSTART:20231105T060000
END:STANDARD
END:VTIMEZONE
BEGIN:VEVENT
DTSTART;TZID=America/New_York:20221022T093000
DTEND;TZID=America/New_York:20221022T120000
DTSTAMP:20260422T175231
CREATED:20220829T153417Z
LAST-MODIFIED:20221020T120542Z
UID:12891-1666431000-1666440000@muellerco.com
SUMMARY:Scroll Saw Demo with Keith Neer
DESCRIPTION:This demo will cover everything scroll saws with Keith Neer. Keith will use the King Canada 16″ and 30″ scroll saws to show the proper set-up of these saws to make sure they are cutting right once you get started. Blade options will be discussed to help you understand all of the blades that are available. He will also show some techniques on the saw that will help you get the most out of your saw and avoid the frustration that you can get from an improperly set up saw.
URL:https://muellerco.com/event/scroll-saw-demo-with-keith-kneer/
LOCATION:OH
CATEGORIES:Saturday Demos
END:VEVENT
END:VCALENDAR