BEGIN:VCALENDAR
VERSION:2.0
PRODID:-//Edward B. Mueller Co., Inc. - ECPv6.15.20//NONSGML v1.0//EN
CALSCALE:GREGORIAN
METHOD:PUBLISH
X-ORIGINAL-URL:https://muellerco.com
X-WR-CALDESC:Events for Edward B. Mueller Co., Inc.
REFRESH-INTERVAL;VALUE=DURATION:PT1H
X-Robots-Tag:noindex
X-PUBLISHED-TTL:PT1H
BEGIN:VTIMEZONE
TZID:America/New_York
BEGIN:DAYLIGHT
TZOFFSETFROM:-0500
TZOFFSETTO:-0400
TZNAME:EDT
DTSTART:20210314T070000
END:DAYLIGHT
BEGIN:STANDARD
TZOFFSETFROM:-0400
TZOFFSETTO:-0500
TZNAME:EST
DTSTART:20211107T060000
END:STANDARD
BEGIN:DAYLIGHT
TZOFFSETFROM:-0500
TZOFFSETTO:-0400
TZNAME:EDT
DTSTART:20220313T070000
END:DAYLIGHT
BEGIN:STANDARD
TZOFFSETFROM:-0400
TZOFFSETTO:-0500
TZNAME:EST
DTSTART:20221106T060000
END:STANDARD
BEGIN:DAYLIGHT
TZOFFSETFROM:-0500
TZOFFSETTO:-0400
TZNAME:EDT
DTSTART:20230312T070000
END:DAYLIGHT
BEGIN:STANDARD
TZOFFSETFROM:-0400
TZOFFSETTO:-0500
TZNAME:EST
DTSTART:20231105T060000
END:STANDARD
END:VTIMEZONE
BEGIN:VEVENT
DTSTART;TZID=America/New_York:20220616T080000
DTEND;TZID=America/New_York:20220629T000000
DTSTAMP:20260423T002937
CREATED:20220628T175505Z
LAST-MODIFIED:20220628T175528Z
UID:12034-1655366400-1656460800@muellerco.com
SUMMARY:Shaper Origin Summer Deal
DESCRIPTION:Shaper Summer Deal Promo \n– Get FREE Essential Bit Kit \n– Free project plans by Johannes Mueller \n– Free two-hour onboarding coarses \n– Plus a $100 bundle discount when buying the Shaper Workstation at the same time \n– That’s a $400 value!
URL:https://muellerco.com/event/shaper-origin-summer-deal/
LOCATION:OH
END:VEVENT
END:VCALENDAR